BEGIN:VCALENDAR
VERSION:2.0
PRODID:-//GRIPE - ECPv6.15.20//NONSGML v1.0//EN
CALSCALE:GREGORIAN
METHOD:PUBLISH
X-WR-CALNAME:GRIPE
X-ORIGINAL-URL:https://gripe.polisci.ucla.edu
X-WR-CALDESC:Events for GRIPE
REFRESH-INTERVAL;VALUE=DURATION:PT1H
X-Robots-Tag:noindex
X-PUBLISHED-TTL:PT1H
BEGIN:VTIMEZONE
TZID:America/New_York
BEGIN:DAYLIGHT
TZOFFSETFROM:-0500
TZOFFSETTO:-0400
TZNAME:EDT
DTSTART:20250309T070000
END:DAYLIGHT
BEGIN:STANDARD
TZOFFSETFROM:-0400
TZOFFSETTO:-0500
TZNAME:EST
DTSTART:20251102T060000
END:STANDARD
BEGIN:DAYLIGHT
TZOFFSETFROM:-0500
TZOFFSETTO:-0400
TZNAME:EDT
DTSTART:20260308T070000
END:DAYLIGHT
BEGIN:STANDARD
TZOFFSETFROM:-0400
TZOFFSETTO:-0500
TZNAME:EST
DTSTART:20261101T060000
END:STANDARD
BEGIN:DAYLIGHT
TZOFFSETFROM:-0500
TZOFFSETTO:-0400
TZNAME:EDT
DTSTART:20270314T070000
END:DAYLIGHT
BEGIN:STANDARD
TZOFFSETFROM:-0400
TZOFFSETTO:-0500
TZNAME:EST
DTSTART:20271107T060000
END:STANDARD
END:VTIMEZONE
BEGIN:VEVENT
DTSTART;TZID=America/New_York:20260422T120000
DTEND;TZID=America/New_York:20260422T130000
DTSTAMP:20260422T015943
CREATED:20260121T180045Z
LAST-MODIFIED:20260414T020555Z
UID:1869-1776859200-1776862800@gripe.polisci.ucla.edu
SUMMARY:Junghyun Lim (UNC)\, "Depopulation Paradox? Depopulation Risk and Immigration Policy Preferences"
DESCRIPTION:How does depopulation risk shape individuals’ support for open immigration policies? Depopulation poses growing challenges in developed economies\, including declining tax revenue\, and skills shortages. While immigration is often proposed as a major solution\, it remains unclear whether those most affected are receptive to it. On one hand\, depopulation may boost support for immigration by highlighting its economic benefits. Yet it may also raise concerns among natives about losing majority status and fostering out-group anxiety\, leading to stronger opposition to immigration. I examine this question using a survey experiment in Italy\, a country facing serious depopulation. I find that raising awareness about depopulation risk has little effect on preferences regarding immigration policies\, while significantly increasing support for pro-natalist policies and the repatriation of co-nationals. Among those with strong in-group biases\, depopulation awareness reduces support for immigration. These findings demonstrate a paradox: even as the need for immigration grows\, public support remains limited or declines\, revealing a key challenge in using immigration to mitigate depopulation. \nModerator: Stephen Chaudoin \nLink to PDF
URL:https://gripe.polisci.ucla.edu/event/lim-2026-04-22/
CATEGORIES:season14
END:VEVENT
END:VCALENDAR