BEGIN:VCALENDAR
VERSION:2.0
PRODID:-//GRIPE - ECPv6.15.20//NONSGML v1.0//EN
CALSCALE:GREGORIAN
METHOD:PUBLISH
X-ORIGINAL-URL:https://gripe.polisci.ucla.edu
X-WR-CALDESC:Events for GRIPE
REFRESH-INTERVAL;VALUE=DURATION:PT1H
X-Robots-Tag:noindex
X-PUBLISHED-TTL:PT1H
BEGIN:VTIMEZONE
TZID:America/New_York
BEGIN:DAYLIGHT
TZOFFSETFROM:-0500
TZOFFSETTO:-0400
TZNAME:EDT
DTSTART:20240310T070000
END:DAYLIGHT
BEGIN:STANDARD
TZOFFSETFROM:-0400
TZOFFSETTO:-0500
TZNAME:EST
DTSTART:20241103T060000
END:STANDARD
BEGIN:DAYLIGHT
TZOFFSETFROM:-0500
TZOFFSETTO:-0400
TZNAME:EDT
DTSTART:20250309T070000
END:DAYLIGHT
BEGIN:STANDARD
TZOFFSETFROM:-0400
TZOFFSETTO:-0500
TZNAME:EST
DTSTART:20251102T060000
END:STANDARD
BEGIN:DAYLIGHT
TZOFFSETFROM:-0500
TZOFFSETTO:-0400
TZNAME:EDT
DTSTART:20260308T070000
END:DAYLIGHT
BEGIN:STANDARD
TZOFFSETFROM:-0400
TZOFFSETTO:-0500
TZNAME:EST
DTSTART:20261101T060000
END:STANDARD
END:VTIMEZONE
BEGIN:VEVENT
DTSTART;TZID=America/New_York:20250917T123000
DTEND;TZID=America/New_York:20250917T133000
DTSTAMP:20260421T235813
CREATED:20250710T221639Z
LAST-MODIFIED:20250909T200405Z
UID:1789-1758112200-1758115800@gripe.polisci.ucla.edu
SUMMARY:Chris Johns (Georgetown) and Dennis Quinn (Georgetown)\, "Emerging Market Bonds Spreads and the Impact of Trump 2 April 2025 Tariffs: Liberation Day?"
DESCRIPTION:We employ difference-in-differences (DiD) event studies to assess the impact of Trump’s “Liberation Day” tariff announcement on sovereign bond spreads and yields in emerging markets (EMs). We consider a largely unexplored question: how do trade policy shocks affect the cost of EM sovereign borrowing? Using daily data surrounding the tariff announcement\, we find that countries with high exposure to U.S. trade paradoxically experienced smaller increases in spreads\, while those with low economic complexity and high political and economic risk faced substantially higher financing costs. These findings underscore the importance of country-specific risk factors in shaping financial responses to tariff shocks. JEL Codes: F13\, F34\, F65\, G15 \nModerator: Cameron Ballard-Rosa \nNo paper PDF
URL:https://gripe.polisci.ucla.edu/event/quinn-2025-09-17/
CATEGORIES:season13
END:VEVENT
END:VCALENDAR