BEGIN:VCALENDAR
VERSION:2.0
PRODID:-//GRIPE - ECPv6.15.20//NONSGML v1.0//EN
CALSCALE:GREGORIAN
METHOD:PUBLISH
X-ORIGINAL-URL:https://gripe.polisci.ucla.edu
X-WR-CALDESC:Events for GRIPE
REFRESH-INTERVAL;VALUE=DURATION:PT1H
X-Robots-Tag:noindex
X-PUBLISHED-TTL:PT1H
BEGIN:VTIMEZONE
TZID:America/New_York
BEGIN:DAYLIGHT
TZOFFSETFROM:-0500
TZOFFSETTO:-0400
TZNAME:EDT
DTSTART:20240310T070000
END:DAYLIGHT
BEGIN:STANDARD
TZOFFSETFROM:-0400
TZOFFSETTO:-0500
TZNAME:EST
DTSTART:20241103T060000
END:STANDARD
BEGIN:DAYLIGHT
TZOFFSETFROM:-0500
TZOFFSETTO:-0400
TZNAME:EDT
DTSTART:20250309T070000
END:DAYLIGHT
BEGIN:STANDARD
TZOFFSETFROM:-0400
TZOFFSETTO:-0500
TZNAME:EST
DTSTART:20251102T060000
END:STANDARD
BEGIN:DAYLIGHT
TZOFFSETFROM:-0500
TZOFFSETTO:-0400
TZNAME:EDT
DTSTART:20260308T070000
END:DAYLIGHT
BEGIN:STANDARD
TZOFFSETFROM:-0400
TZOFFSETTO:-0500
TZNAME:EST
DTSTART:20261101T060000
END:STANDARD
END:VTIMEZONE
BEGIN:VEVENT
DTSTART;TZID=America/New_York:20251008T120000
DTEND;TZID=America/New_York:20251008T133000
DTSTAMP:20260421T203215
CREATED:20250710T221254Z
LAST-MODIFIED:20250929T164658Z
UID:1776-1759924800-1759930200@gripe.polisci.ucla.edu
SUMMARY:Calvin Thrall (Columbia)\, "Industrial Diversification and the Rise of the Local Chamber"
DESCRIPTION:Abstract: Despite the well-documented nationalization of local politics over the late 20th century\, one type of local organization has flourished: the chamber of commerce. Local chambers\, influential interest groups in which firms operating in a given municipality band together to lobby for improved local business conditions\, are now present in over 6\,700 municipalities across nearly 2\,300 counties. Why has the private sector been so successful at organizing locally\, despite the costs inherent in collective action? I argue that industrial diversification at the local level makes chamber formation more likely; when firms are co-located with complementary industries rather than direct competitors\, lobbying for geographically-specific (“place-based”) benefits offers greater relative gains. I provide evidence in support of this explanation using new data on thousands of local chambers incorporated between 1970 and 2018\, an identification strategy based on a novel Bartik-style shift-share instrument\, and member-level data for twenty individual chambers. The results demonstrate how broader patterns of structural economic change have affected interest representation at the local level. \nModerator: Gabi Spilker \nPaper PDF
URL:https://gripe.polisci.ucla.edu/event/thrall-2025-10-08/
CATEGORIES:season13
END:VEVENT
END:VCALENDAR