BEGIN:VCALENDAR
VERSION:2.0
PRODID:-//GRIPE - ECPv6.15.20//NONSGML v1.0//EN
CALSCALE:GREGORIAN
METHOD:PUBLISH
X-WR-CALNAME:GRIPE
X-ORIGINAL-URL:https://gripe.polisci.ucla.edu
X-WR-CALDESC:Events for GRIPE
REFRESH-INTERVAL;VALUE=DURATION:PT1H
X-Robots-Tag:noindex
X-PUBLISHED-TTL:PT1H
BEGIN:VTIMEZONE
TZID:America/New_York
BEGIN:DAYLIGHT
TZOFFSETFROM:-0500
TZOFFSETTO:-0400
TZNAME:EDT
DTSTART:20240310T070000
END:DAYLIGHT
BEGIN:STANDARD
TZOFFSETFROM:-0400
TZOFFSETTO:-0500
TZNAME:EST
DTSTART:20241103T060000
END:STANDARD
BEGIN:DAYLIGHT
TZOFFSETFROM:-0500
TZOFFSETTO:-0400
TZNAME:EDT
DTSTART:20250309T070000
END:DAYLIGHT
BEGIN:STANDARD
TZOFFSETFROM:-0400
TZOFFSETTO:-0500
TZNAME:EST
DTSTART:20251102T060000
END:STANDARD
BEGIN:DAYLIGHT
TZOFFSETFROM:-0500
TZOFFSETTO:-0400
TZNAME:EDT
DTSTART:20260308T070000
END:DAYLIGHT
BEGIN:STANDARD
TZOFFSETFROM:-0400
TZOFFSETTO:-0500
TZNAME:EST
DTSTART:20261101T060000
END:STANDARD
END:VTIMEZONE
BEGIN:VEVENT
DTSTART;TZID=America/New_York:20251210T120000
DTEND;TZID=America/New_York:20251210T130000
DTSTAMP:20260421T185422
CREATED:20250710T221446Z
LAST-MODIFIED:20251204T211551Z
UID:1782-1765368000-1765371600@gripe.polisci.ucla.edu
SUMMARY:Carles Boix (Princeton)\, Valentina Gonzalez-Rostani (USC)\, Erica Owen (Pittsburgh\, presenter)\, "The Political Economy of Automation and Fragmented Production: Evidence from Mexico"
DESCRIPTION:How does automation in the Global North shape politics and violence in the Global South? We develop a political economy theory in which robot adoption in advanced economies reduces demand for export-oriented labor in developing countries\, depressing wages and employment and creating social and political consequences. We test this argument in Mexico\, a close trade partner of the United States. Using commuting-zone data\, we construct exposure measures combining pre-NAFTA export employment with U.S. industry robot growth and initial offshoring intensity\, while accounting for domestic robot adoption and other shocks. To address endogeneity\, we instrument foreign exposure with European robot diffusion. We find that regions more exposed to foreign robots experience higher levels of violent organized crime\, including narcocrime and homicides (but not property crime)\, and stronger support for left-populist candidates. These findings demonstrate how automation shocks ripple through global value chains to reshape society and elections. \nModerator: Stephen Chaudoin \nLink to PDF
URL:https://gripe.polisci.ucla.edu/event/owen-2025-12-10/
CATEGORIES:season13
END:VEVENT
END:VCALENDAR